Package: CiteFuse Version: 1.18.0 Command: /home/biocbuild/R/R/bin/R CMD check --install=check:CiteFuse.install-out.txt --library=/home/biocbuild/R/R/site-library --no-vignettes --timings CiteFuse_1.18.0.tar.gz StartedAt: 2025-02-04 05:38:30 -0000 (Tue, 04 Feb 2025) EndedAt: 2025-02-04 05:43:53 -0000 (Tue, 04 Feb 2025) EllapsedTime: 322.2 seconds RetCode: 0 Status: OK CheckDir: CiteFuse.Rcheck Warnings: 0