Package: ClassifyR Version: 3.10.6 Maintainer: Dario Strbenac MaintainerEmail: dario.strbenac at sydney.edu.au git_url: https://git.bioconductor.org/packages/ClassifyR git_branch: RELEASE_3_20 git_last_commit: b501969 git_last_commit_date: 2025-01-30 23:20:05 -0500 (Thu, 30 Jan 2025)