Package: ClassifyR Version: 3.10.6 Command: rm -rf ClassifyR.buildbin-libdir && mkdir ClassifyR.buildbin-libdir && /Users/biocbuild/BBS/utils/build-universal.sh ClassifyR_3.10.6.tar.gz /Library/Frameworks/R.framework/Resources/bin/R ClassifyR.buildbin-libdir StartedAt: 2025-02-05 15:15:00 -0500 (Wed, 05 Feb 2025) EndedAt: 2025-02-05 15:15:45 -0500 (Wed, 05 Feb 2025) EllapsedTime: 45.3 seconds RetCode: 0 Status: OK PackageFile: ClassifyR_3.10.6.tgz PackageFileSize: 2.525 MiB