Package: ClassifyR Version: 3.10.6 Command: /Library/Frameworks/R.framework/Resources/bin/R CMD INSTALL ClassifyR StartedAt: 2025-02-03 16:46:43 -0500 (Mon, 03 Feb 2025) EndedAt: 2025-02-03 16:47:58 -0500 (Mon, 03 Feb 2025) EllapsedTime: 74.7 seconds RetCode: 0 Status: OK