Package: ClassifyR Version: 3.10.6 Command: /home/biocbuild/bbs-3.20-bioc/R/bin/R CMD check --install=check:ClassifyR.install-out.txt --library=/home/biocbuild/bbs-3.20-bioc/R/site-library --timings ClassifyR_3.10.6.tar.gz StartedAt: 2025-02-10 20:53:01 -0500 (Mon, 10 Feb 2025) EndedAt: 2025-02-10 20:58:55 -0500 (Mon, 10 Feb 2025) EllapsedTime: 353.3 seconds RetCode: 0 Status: WARNINGS CheckDir: ClassifyR.Rcheck Warnings: 1