Package: ClassifyR Version: 3.10.6 Command: /home/biocbuild/R/R/bin/R CMD INSTALL ClassifyR StartedAt: 2025-02-03 21:21:57 -0000 (Mon, 03 Feb 2025) EndedAt: 2025-02-03 21:22:40 -0000 (Mon, 03 Feb 2025) EllapsedTime: 43.8 seconds RetCode: 0 Status: OK