Package: CleanUpRNAseq Version: 1.0.0 Command: rm -rf CleanUpRNAseq.buildbin-libdir && mkdir CleanUpRNAseq.buildbin-libdir && /Users/biocbuild/BBS/utils/build-universal.sh CleanUpRNAseq_1.0.0.tar.gz /Library/Frameworks/R.framework/Resources/bin/R CleanUpRNAseq.buildbin-libdir StartedAt: 2025-02-05 15:15:09 -0500 (Wed, 05 Feb 2025) EndedAt: 2025-02-05 15:16:06 -0500 (Wed, 05 Feb 2025) EllapsedTime: 56.8 seconds RetCode: 0 Status: OK PackageFile: CleanUpRNAseq_1.0.0.tgz PackageFileSize: 2.617 MiB