Package: CleanUpRNAseq Version: 1.0.0 Command: /Library/Frameworks/R.framework/Resources/bin/R CMD build --keep-empty-dirs --no-resave-data CleanUpRNAseq StartedAt: 2025-02-03 20:49:22 -0500 (Mon, 03 Feb 2025) EndedAt: 2025-02-03 20:50:59 -0500 (Mon, 03 Feb 2025) EllapsedTime: 96.7 seconds RetCode: 0 Status: OK PackageFile: CleanUpRNAseq_1.0.0.tar.gz PackageFileSize: 2.471 MiB