Package: CleanUpRNAseq Version: 1.0.0 Command: /Library/Frameworks/R.framework/Resources/bin/R CMD INSTALL CleanUpRNAseq StartedAt: 2025-02-03 17:27:43 -0500 (Mon, 03 Feb 2025) EndedAt: 2025-02-03 17:28:35 -0500 (Mon, 03 Feb 2025) EllapsedTime: 52.0 seconds RetCode: 0 Status: OK