Package: CleanUpRNAseq Version: 1.0.0 Command: /home/biocbuild/R/R/bin/R CMD build --keep-empty-dirs --no-resave-data CleanUpRNAseq StartedAt: 2024-11-19 23:44:01 -0000 (Tue, 19 Nov 2024) EndedAt: 2024-11-19 23:46:00 -0000 (Tue, 19 Nov 2024) EllapsedTime: 119.1 seconds RetCode: 0 Status: OK PackageFile: CleanUpRNAseq_1.0.0.tar.gz PackageFileSize: 1.991 MiB