Package: CleanUpRNAseq Version: 1.0.0 Command: /Library/Frameworks/R.framework/Resources/bin/R CMD check --install=check:CleanUpRNAseq.install-out.txt --library=/Library/Frameworks/R.framework/Resources/library --no-vignettes --timings CleanUpRNAseq_1.0.0.tar.gz StartedAt: 2025-02-04 01:17:59 -0500 (Tue, 04 Feb 2025) EndedAt: 2025-02-04 01:30:18 -0500 (Tue, 04 Feb 2025) EllapsedTime: 739.0 seconds RetCode: 0 Status: OK CheckDir: CleanUpRNAseq.Rcheck Warnings: 0