Package: CleanUpRNAseq Version: 1.0.0 Command: /Library/Frameworks/R.framework/Resources/bin/R CMD INSTALL CleanUpRNAseq StartedAt: 2025-02-03 16:26:38 -0500 (Mon, 03 Feb 2025) EndedAt: 2025-02-03 16:28:09 -0500 (Mon, 03 Feb 2025) EllapsedTime: 91.3 seconds RetCode: 0 Status: OK