Package: CleanUpRNAseq Version: 1.0.0 Command: /home/biocbuild/bbs-3.20-bioc/R/bin/R CMD INSTALL CleanUpRNAseq StartedAt: 2025-02-03 15:55:22 -0500 (Mon, 03 Feb 2025) EndedAt: 2025-02-03 15:56:10 -0500 (Mon, 03 Feb 2025) EllapsedTime: 47.9 seconds RetCode: 0 Status: OK