Package: Clomial Version: 1.42.0 Command: /Library/Frameworks/R.framework/Resources/bin/R CMD INSTALL Clomial StartedAt: 2025-01-30 15:10:02 -0500 (Thu, 30 Jan 2025) EndedAt: 2025-01-30 15:10:33 -0500 (Thu, 30 Jan 2025) EllapsedTime: 31.5 seconds RetCode: 0 Status: OK