Package: Clomial Version: 1.42.0 Command: /home/biocbuild/bbs-3.20-bioc/R/bin/R CMD check --install=check:Clomial.install-out.txt --library=/home/biocbuild/bbs-3.20-bioc/R/site-library --timings Clomial_1.42.0.tar.gz StartedAt: 2025-01-30 20:52:22 -0500 (Thu, 30 Jan 2025) EndedAt: 2025-01-30 20:54:00 -0500 (Thu, 30 Jan 2025) EllapsedTime: 98.1 seconds RetCode: 0 Status: OK CheckDir: Clomial.Rcheck Warnings: 0