Package: Clomial Version: 1.42.0 Command: rm -rf Clomial.buildbin-libdir && mkdir Clomial.buildbin-libdir && F:\biocbuild\bbs-3.20-bioc\R\bin\R.exe CMD INSTALL --build --library=Clomial.buildbin-libdir Clomial_1.42.0.tar.gz StartedAt: 2025-01-31 08:23:10 -0500 (Fri, 31 Jan 2025) EndedAt: 2025-01-31 08:23:18 -0500 (Fri, 31 Jan 2025) EllapsedTime: 8.0 seconds RetCode: 0 Status: OK PackageFile: Clomial_1.42.0.zip PackageFileSize: 1.421 MiB