Package: CluMSID Version: 1.22.0 Command: /home/biocbuild/R/R/bin/R CMD check --install=check:CluMSID.install-out.txt --library=/home/biocbuild/R/R/site-library --no-vignettes --timings CluMSID_1.22.0.tar.gz StartedAt: 2025-02-04 05:42:42 -0000 (Tue, 04 Feb 2025) EndedAt: 2025-02-04 05:49:26 -0000 (Tue, 04 Feb 2025) EllapsedTime: 404.5 seconds RetCode: 0 Status: WARNINGS CheckDir: CluMSID.Rcheck Warnings: 1