Package: ClustAll Version: 1.2.0 Command: rm -rf ClustAll.buildbin-libdir && mkdir ClustAll.buildbin-libdir && /Users/biocbuild/BBS/utils/build-universal.sh ClustAll_1.2.0.tar.gz /Library/Frameworks/R.framework/Resources/bin/R ClustAll.buildbin-libdir StartedAt: 2025-02-05 15:16:06 -0500 (Wed, 05 Feb 2025) EndedAt: 2025-02-05 15:16:35 -0500 (Wed, 05 Feb 2025) EllapsedTime: 29.5 seconds RetCode: 0 Status: OK PackageFile: ClustAll_1.2.0.tgz PackageFileSize: 2.278 MiB