Package: ClustAll Version: 1.2.0 Command: /Library/Frameworks/R.framework/Resources/bin/R CMD build --keep-empty-dirs --no-resave-data ClustAll StartedAt: 2025-02-03 20:52:43 -0500 (Mon, 03 Feb 2025) EndedAt: 2025-02-03 20:58:04 -0500 (Mon, 03 Feb 2025) EllapsedTime: 320.6 seconds RetCode: 0 Status: OK PackageFile: ClustAll_1.2.0.tar.gz PackageFileSize: 2.95 MiB