Package: ClustAll Version: 1.2.0 Command: /Library/Frameworks/R.framework/Resources/bin/R CMD check --install=check:ClustAll.install-out.txt --library=/Library/Frameworks/R.framework/Resources/library --no-vignettes --timings ClustAll_1.2.0.tar.gz StartedAt: 2025-02-04 15:06:11 -0500 (Tue, 04 Feb 2025) EndedAt: 2025-02-04 15:10:13 -0500 (Tue, 04 Feb 2025) EllapsedTime: 242.4 seconds RetCode: 0 Status: OK CheckDir: ClustAll.Rcheck Warnings: 0