Package: ClustAll Version: 1.2.0 Command: /home/biocbuild/R/R/bin/R CMD build --keep-empty-dirs --no-resave-data ClustAll StartedAt: 2025-02-03 22:39:52 -0000 (Mon, 03 Feb 2025) EndedAt: 2025-02-03 22:45:13 -0000 (Mon, 03 Feb 2025) EllapsedTime: 321.1 seconds RetCode: 0 Status: OK PackageFile: ClustAll_1.2.0.tar.gz PackageFileSize: 2.798 MiB