Package: ClusterFoldSimilarity Version: 1.2.0 Command: /Library/Frameworks/R.framework/Resources/bin/R CMD check --install=check:ClusterFoldSimilarity.install-out.txt --library=/Library/Frameworks/R.framework/Resources/library --no-vignettes --timings ClusterFoldSimilarity_1.2.0.tar.gz StartedAt: 2025-02-04 15:06:53 -0500 (Tue, 04 Feb 2025) EndedAt: 2025-02-04 15:11:41 -0500 (Tue, 04 Feb 2025) EllapsedTime: 288.2 seconds RetCode: 0 Status: WARNINGS CheckDir: ClusterFoldSimilarity.Rcheck Warnings: 1