Package: ClusterFoldSimilarity Version: 1.2.0 Command: /Library/Frameworks/R.framework/Resources/bin/R CMD INSTALL ClusterFoldSimilarity StartedAt: 2025-02-03 16:27:11 -0500 (Mon, 03 Feb 2025) EndedAt: 2025-02-03 16:28:28 -0500 (Mon, 03 Feb 2025) EllapsedTime: 76.9 seconds RetCode: 0 Status: OK