Package: ClusterFoldSimilarity Version: 1.2.0 Command: rm -rf ClusterFoldSimilarity.buildbin-libdir && mkdir ClusterFoldSimilarity.buildbin-libdir && F:\biocbuild\bbs-3.20-bioc\R\bin\R.exe CMD INSTALL --build --library=ClusterFoldSimilarity.buildbin-libdir ClusterFoldSimilarity_1.2.0.tar.gz StartedAt: 2025-02-04 08:13:27 -0500 (Tue, 04 Feb 2025) EndedAt: 2025-02-04 08:15:08 -0500 (Tue, 04 Feb 2025) EllapsedTime: 101.5 seconds RetCode: 0 Status: OK PackageFile: ClusterFoldSimilarity_1.2.0.zip PackageFileSize: 889.4 KiB