Package: ClusterFoldSimilarity Version: 1.2.0 Command: /home/biocbuild/R/R/bin/R CMD check --install=check:ClusterFoldSimilarity.install-out.txt --library=/home/biocbuild/R/R/site-library --no-vignettes --timings ClusterFoldSimilarity_1.2.0.tar.gz StartedAt: 2025-02-04 05:43:34 -0000 (Tue, 04 Feb 2025) EndedAt: 2025-02-04 05:48:21 -0000 (Tue, 04 Feb 2025) EllapsedTime: 287.3 seconds RetCode: 0 Status: WARNINGS CheckDir: ClusterFoldSimilarity.Rcheck Warnings: 1