Package: ClusterFoldSimilarity Version: 1.2.0 Command: /home/biocbuild/R/R/bin/R CMD INSTALL ClusterFoldSimilarity StartedAt: 2025-02-03 21:10:51 -0000 (Mon, 03 Feb 2025) EndedAt: 2025-02-03 21:11:38 -0000 (Mon, 03 Feb 2025) EllapsedTime: 46.2 seconds RetCode: 0 Status: OK