Package: ClusterSignificance Version: 1.34.0 Command: /Library/Frameworks/R.framework/Resources/bin/R CMD check --install=check:ClusterSignificance.install-out.txt --library=/Library/Frameworks/R.framework/Resources/library --no-vignettes --timings ClusterSignificance_1.34.0.tar.gz StartedAt: 2025-02-04 01:25:55 -0500 (Tue, 04 Feb 2025) EndedAt: 2025-02-04 01:27:11 -0500 (Tue, 04 Feb 2025) EllapsedTime: 76.5 seconds RetCode: 0 Status: OK CheckDir: ClusterSignificance.Rcheck Warnings: 0