Package: ClusterSignificance Version: 1.34.0 Command: /Library/Frameworks/R.framework/Resources/bin/R CMD INSTALL ClusterSignificance StartedAt: 2025-02-03 15:16:16 -0500 (Mon, 03 Feb 2025) EndedAt: 2025-02-03 15:16:44 -0500 (Mon, 03 Feb 2025) EllapsedTime: 28.3 seconds RetCode: 0 Status: OK