Package: ClusterSignificance Version: 1.34.0 Command: /home/biocbuild/bbs-3.20-bioc/R/bin/R CMD INSTALL ClusterSignificance StartedAt: 2025-02-03 15:16:11 -0500 (Mon, 03 Feb 2025) EndedAt: 2025-02-03 15:16:19 -0500 (Mon, 03 Feb 2025) EllapsedTime: 8.1 seconds RetCode: 0 Status: OK