Package: CoCiteStats Version: 1.78.0 Command: /Library/Frameworks/R.framework/Resources/bin/R CMD check --install=check:CoCiteStats.install-out.txt --library=/Library/Frameworks/R.framework/Resources/library --no-vignettes --timings CoCiteStats_1.78.0.tar.gz StartedAt: 2025-01-31 01:53:47 -0500 (Fri, 31 Jan 2025) EndedAt: 2025-01-31 02:02:26 -0500 (Fri, 31 Jan 2025) EllapsedTime: 518.7 seconds RetCode: 0 Status: OK CheckDir: CoCiteStats.Rcheck Warnings: 0