Package: CoCiteStats Version: 1.78.0 Command: rm -rf CoCiteStats.buildbin-libdir && mkdir CoCiteStats.buildbin-libdir && F:\biocbuild\bbs-3.20-bioc\R\bin\R.exe CMD INSTALL --build --library=CoCiteStats.buildbin-libdir CoCiteStats_1.78.0.tar.gz StartedAt: 2025-01-31 08:24:50 -0500 (Fri, 31 Jan 2025) EndedAt: 2025-01-31 08:25:08 -0500 (Fri, 31 Jan 2025) EllapsedTime: 17.2 seconds RetCode: 0 Status: OK PackageFile: CoCiteStats_1.78.0.zip PackageFileSize: 35.12 KiB