Package: CoCiteStats Version: 1.78.0 Command: chmod a+r CoCiteStats -R && F:\biocbuild\bbs-3.20-bioc\R\bin\R.exe CMD build --keep-empty-dirs --no-resave-data CoCiteStats StartedAt: 2025-01-30 18:02:28 -0500 (Thu, 30 Jan 2025) EndedAt: 2025-01-30 18:02:30 -0500 (Thu, 30 Jan 2025) EllapsedTime: 2.1 seconds RetCode: 0 Status: OK PackageFile: CoCiteStats_1.78.0.tar.gz PackageFileSize: 5.346 KiB