Package: CoCiteStats Version: 1.78.0 Command: /home/biocbuild/R/R/bin/R CMD build --keep-empty-dirs --no-resave-data CoCiteStats StartedAt: 2025-01-30 22:44:11 -0000 (Thu, 30 Jan 2025) EndedAt: 2025-01-30 22:44:12 -0000 (Thu, 30 Jan 2025) EllapsedTime: 1.0 seconds RetCode: 0 Status: OK PackageFile: CoCiteStats_1.78.0.tar.gz PackageFileSize: 5.341 KiB