Package: CoGAPS
Version: 3.25.1
Command: C:\Users\biocbuild\bbs-3.20-bioc\R\bin\R.exe CMD INSTALL CoGAPS
StartedAt: 2024-07-15 16:01:42 -0400 (Mon, 15 Jul 2024)
EndedAt: 2024-07-15 16:05:04 -0400 (Mon, 15 Jul 2024)
EllapsedTime: 201.9 seconds
RetCode: 0
Status: OK