Package: CoGAPS Version: 3.26.0 Command: /home/biocbuild/R/R/bin/R CMD build --keep-empty-dirs --no-resave-data CoGAPS StartedAt: 2025-02-03 22:44:02 -0000 (Mon, 03 Feb 2025) EndedAt: 2025-02-03 23:06:02 -0000 (Mon, 03 Feb 2025) EllapsedTime: 1320.5 seconds RetCode: 0 Status: OK PackageFile: CoGAPS_3.26.0.tar.gz PackageFileSize: 19.9 MiB