Package: CoGAPS Version: 3.26.0 Command: /home/biocbuild/R/R/bin/R CMD INSTALL CoGAPS StartedAt: 2025-02-03 21:08:44 -0000 (Mon, 03 Feb 2025) EndedAt: 2025-02-03 21:11:06 -0000 (Mon, 03 Feb 2025) EllapsedTime: 142.5 seconds RetCode: 0 Status: OK