Package: CoSIA Version: 1.6.0 Command: /Library/Frameworks/R.framework/Resources/bin/R CMD INSTALL CoSIA StartedAt: 2025-01-30 16:50:38 -0500 (Thu, 30 Jan 2025) EndedAt: 2025-01-30 16:50:58 -0500 (Thu, 30 Jan 2025) EllapsedTime: 19.6 seconds RetCode: 0 Status: OK