Package: CoSIA Version: 1.6.0 Command: rm -rf CoSIA.buildbin-libdir && mkdir CoSIA.buildbin-libdir && /Users/biocbuild/BBS/utils/build-universal.sh CoSIA_1.6.0.tar.gz /Library/Frameworks/R.framework/Resources/bin/R CoSIA.buildbin-libdir StartedAt: 2025-01-31 12:35:20 -0500 (Fri, 31 Jan 2025) EndedAt: 2025-01-31 12:36:00 -0500 (Fri, 31 Jan 2025) EllapsedTime: 40.4 seconds RetCode: 0 Status: OK PackageFile: CoSIA_1.6.0.tgz PackageFileSize: 1.275 MiB