Package: CoSIA Version: 1.6.0 Command: /Library/Frameworks/R.framework/Resources/bin/R CMD check --install=check:CoSIA.install-out.txt --library=/Library/Frameworks/R.framework/Resources/library --no-vignettes --timings CoSIA_1.6.0.tar.gz StartedAt: 2025-01-31 02:07:21 -0500 (Fri, 31 Jan 2025) EndedAt: 2025-01-31 02:47:22 -0500 (Fri, 31 Jan 2025) EllapsedTime: 2400.4 seconds RetCode: None Status: TIMEOUT CheckDir: CoSIA.Rcheck Warnings: NA