Package: CoSIA Version: 1.6.0 Command: /home/biocbuild/bbs-3.20-bioc/R/bin/R CMD build --keep-empty-dirs --no-resave-data --md5 CoSIA StartedAt: 2025-01-30 16:49:51 -0500 (Thu, 30 Jan 2025) EndedAt: 2025-01-30 16:52:08 -0500 (Thu, 30 Jan 2025) EllapsedTime: 137.1 seconds RetCode: 0 Status: OK PackageFile: CoSIA_1.6.0.tar.gz PackageFileSize: 1.168 MiB