Package: CoSIA Version: 1.6.0 Command: /home/biocbuild/bbs-3.20-bioc/R/bin/R CMD check --install=check:CoSIA.install-out.txt --library=/home/biocbuild/bbs-3.20-bioc/R/site-library --timings CoSIA_1.6.0.tar.gz StartedAt: 2025-01-30 21:07:58 -0500 (Thu, 30 Jan 2025) EndedAt: 2025-01-30 21:34:27 -0500 (Thu, 30 Jan 2025) EllapsedTime: 1589.5 seconds RetCode: 0 Status: OK CheckDir: CoSIA.Rcheck Warnings: 0