Package: CoSIA Version: 1.6.0 Command: /home/biocbuild/bbs-3.20-bioc/R/bin/R CMD INSTALL CoSIA StartedAt: 2025-01-30 15:33:24 -0500 (Thu, 30 Jan 2025) EndedAt: 2025-01-30 15:33:40 -0500 (Thu, 30 Jan 2025) EllapsedTime: 15.5 seconds RetCode: 0 Status: OK