Package: CoSIA Version: 1.6.0 Command: rm -rf CoSIA.buildbin-libdir && mkdir CoSIA.buildbin-libdir && F:\biocbuild\bbs-3.20-bioc\R\bin\R.exe CMD INSTALL --build --library=CoSIA.buildbin-libdir CoSIA_1.6.0.tar.gz StartedAt: 2025-01-31 08:26:45 -0500 (Fri, 31 Jan 2025) EndedAt: 2025-01-31 08:27:11 -0500 (Fri, 31 Jan 2025) EllapsedTime: 26.2 seconds RetCode: 0 Status: OK PackageFile: CoSIA_1.6.0.zip PackageFileSize: 1.279 MiB