Package: CoSIA Version: 1.6.0 Command: chmod a+r CoSIA -R && F:\biocbuild\bbs-3.20-bioc\R\bin\R.exe CMD build --keep-empty-dirs --no-resave-data CoSIA StartedAt: 2025-01-30 18:08:18 -0500 (Thu, 30 Jan 2025) EndedAt: 2025-01-30 18:11:26 -0500 (Thu, 30 Jan 2025) EllapsedTime: 188.8 seconds RetCode: 0 Status: OK PackageFile: CoSIA_1.6.0.tar.gz PackageFileSize: 1.166 MiB