Package: CoSIA Version: 1.6.0 Command: F:\biocbuild\bbs-3.20-bioc\R\bin\R.exe CMD check --no-multiarch --install=check:CoSIA.install-out.txt --library=F:\biocbuild\bbs-3.20-bioc\R\library --no-vignettes --timings CoSIA_1.6.0.tar.gz StartedAt: 2025-01-31 00:51:55 -0500 (Fri, 31 Jan 2025) EndedAt: 2025-01-31 01:23:51 -0500 (Fri, 31 Jan 2025) EllapsedTime: 1916.0 seconds RetCode: 0 Status: OK CheckDir: CoSIA.Rcheck Warnings: 0