Package: CoSIA Version: 1.6.0 Command: /home/biocbuild/R/R/bin/R CMD build --keep-empty-dirs --no-resave-data CoSIA StartedAt: 2025-01-30 22:51:56 -0000 (Thu, 30 Jan 2025) EndedAt: 2025-01-30 22:54:27 -0000 (Thu, 30 Jan 2025) EllapsedTime: 151.1 seconds RetCode: 0 Status: OK PackageFile: CoSIA_1.6.0.tar.gz PackageFileSize: 1.232 MiB