Package: CoSIA Version: 1.6.0 Command: /home/biocbuild/R/R/bin/R CMD INSTALL CoSIA StartedAt: 2025-01-30 20:41:33 -0000 (Thu, 30 Jan 2025) EndedAt: 2025-01-30 20:41:54 -0000 (Thu, 30 Jan 2025) EllapsedTime: 20.8 seconds RetCode: 0 Status: OK