Package: Cogito Version: 1.12.0 Command: /Library/Frameworks/R.framework/Resources/bin/R CMD INSTALL Cogito StartedAt: 2025-02-03 16:47:42 -0500 (Mon, 03 Feb 2025) EndedAt: 2025-02-03 16:48:27 -0500 (Mon, 03 Feb 2025) EllapsedTime: 44.7 seconds RetCode: 0 Status: OK