Package: Cogito Version: 1.12.0 Command: rm -rf Cogito.buildbin-libdir && mkdir Cogito.buildbin-libdir && /Users/biocbuild/BBS/utils/build-universal.sh Cogito_1.12.0.tar.gz /Library/Frameworks/R.framework/Resources/bin/R Cogito.buildbin-libdir StartedAt: 2025-02-04 12:42:12 -0500 (Tue, 04 Feb 2025) EndedAt: 2025-02-04 12:43:36 -0500 (Tue, 04 Feb 2025) EllapsedTime: 83.8 seconds RetCode: 0 Status: OK PackageFile: Cogito_1.12.0.tgz PackageFileSize: 1.246 MiB