Package: Cogito Version: 1.12.0 Command: /Library/Frameworks/R.framework/Resources/bin/R CMD build --keep-empty-dirs --no-resave-data Cogito StartedAt: 2025-02-03 18:01:25 -0500 (Mon, 03 Feb 2025) EndedAt: 2025-02-03 18:03:59 -0500 (Mon, 03 Feb 2025) EllapsedTime: 154.0 seconds RetCode: 0 Status: OK PackageFile: Cogito_1.12.0.tar.gz PackageFileSize: 868.9 KiB